BEGIN:VCALENDAR
VERSION:2.0
PRODID:-//Pfarrei Vallendar - ECPv6.15.20//NONSGML v1.0//EN
CALSCALE:GREGORIAN
METHOD:PUBLISH
X-ORIGINAL-URL:https://pfarrei-vallendar.de
X-WR-CALDESC:Veranstaltungen für Pfarrei Vallendar
REFRESH-INTERVAL;VALUE=DURATION:PT1H
X-Robots-Tag:noindex
X-PUBLISHED-TTL:PT1H
BEGIN:VTIMEZONE
TZID:Europe/Berlin
BEGIN:DAYLIGHT
TZOFFSETFROM:+0100
TZOFFSETTO:+0200
TZNAME:CEST
DTSTART:20240331T010000
END:DAYLIGHT
BEGIN:STANDARD
TZOFFSETFROM:+0200
TZOFFSETTO:+0100
TZNAME:CET
DTSTART:20241027T010000
END:STANDARD
BEGIN:DAYLIGHT
TZOFFSETFROM:+0100
TZOFFSETTO:+0200
TZNAME:CEST
DTSTART:20250330T010000
END:DAYLIGHT
BEGIN:STANDARD
TZOFFSETFROM:+0200
TZOFFSETTO:+0100
TZNAME:CET
DTSTART:20251026T010000
END:STANDARD
BEGIN:DAYLIGHT
TZOFFSETFROM:+0100
TZOFFSETTO:+0200
TZNAME:CEST
DTSTART:20260329T010000
END:DAYLIGHT
BEGIN:STANDARD
TZOFFSETFROM:+0200
TZOFFSETTO:+0100
TZNAME:CET
DTSTART:20261025T010000
END:STANDARD
END:VTIMEZONE
BEGIN:VEVENT
DTSTART;VALUE=DATE:20250608
DTEND;VALUE=DATE:20250625
DTSTAMP:20260425T155955
CREATED:20250519T155757Z
LAST-MODIFIED:20250625T212810Z
UID:13559-1749340800-1750809599@pfarrei-vallendar.de
SUMMARY:Fotoausstellung: Freiheit kann man lernen
DESCRIPTION:Fotoausstellung: Freiheit kann man lernen\nFrauen\, die mit ihren Kindern Schutz suchen\, stehen an einem Wendepunkt ihres Lebens. Sie haben entschieden\, dass das Leben\, das sie geführt haben\, weder für sie noch für ihre Kinder gut und sicher ist. Viele Frauen leben das erste Mal ohne Familie\, Ehemann oder Partner. Sie fragen sich: „Wie soll es weitergehen?“ „Kann ich wieder Freude am Leben haben?“ „Können meine Kinder und ich wieder Lachen und Spaß haben?“ Die Ausstellung „Freiheit kann man lernen“ beschäftigt sich mit den Erfahrungen von Frauen\, die den Schritt aus der Spirale der Gewalt geschafft haben und Freiheit erlernen und neu definieren konnten. \nEs sind beeindruckende\, ganz verschiedenartige Aufnahmen von Frauen mit unterschiedlichen Erfahrungen entstanden\, die sich nicht mehr verstecken wollen. \nDie Fotoausstellung ist auf Initiative der kfd Vallendar vom 8. bis 20. Juni 2025 in der Pfarrkirche Vallendar zu sehen. \nAusstellungseröffnung\nDie Ausstellungseröffnung mit der Referentin Claudia Berlingen aus dem Frauenhaus Trier findet\nam 11. Juni 2025 um 17:00 Uhr am Ausstellungsort statt.
URL:https://pfarrei-vallendar.de/event/fotoausstellung-freiheit-kann-man-lernen/
LOCATION:St. Marzellinus und Petrus\, Vallendar\, Kirchstr. 25\, Vallendar\, 56179
CATEGORIES:kfd,Veranstaltung
ATTACH;FMTTYPE=image/jpeg:https://pfarrei-vallendar.de/wp-content/uploads/2025/05/20250516_0608_Plakat-kfd-Fotoausstellung_Teaser1.jpg
END:VEVENT
BEGIN:VEVENT
DTSTART;TZID=Europe/Berlin:20250608T180000
DTEND;TZID=Europe/Berlin:20250608T193000
DTSTAMP:20260425T155955
CREATED:20250527T143819Z
LAST-MODIFIED:20250527T175019Z
UID:13681-1749405600-1749411000@pfarrei-vallendar.de
SUMMARY:Soirée spirituelle: Ein Abend der Hoffnung
DESCRIPTION:Soirée spirituelle: Ein pfingstlicher Abendimpuls der Hoffnung\nDie Finsternis wäre wie Licht (Ps 139)\nPersönliche Hoffnungsgeschichten in Wort und Musik\nErleben Sie einen einzigartigen Abend\, der das Thema der Hoffnung in den Mittelpunkt stellt. Tauchen Sie ein in eine spirituelle Atmosphäre\, die das Licht in der Dunkelheit spürbar macht. Ein pfingstlicher Abend der Hoffnung\, der Musik\, Worte und persönliche Geschichten vereint. \nDem Himmel so nah – Pfingstlicher Abendimpuls\nAm Pfingstsonntag\, den 8. Juni 2025\, 18 Uhr\, lädt das Pater-Kentenich-Haus\, Berg Schönstatt\, Vallendar\, zu einem besonderen Abendimpuls ein\, der das Thema der Hoffnung und der göttlichen Gegenwart in den Mittelpunkt stellt. Unter dem Titel „Die Finsternis wäre wie Licht“ (Ps 139) erwartet die Gäste eine Mischung aus persönlichen Hoffnungsgeschichten und Musik\, die zu Herzen gehen. \nDer Abend wird von Roland Klein\, der aus eigener Erfahrung von einer tiefgreifenden Lebenskrise und der daraus erwachsenen Christusbeziehung erzählt sowie von Jürgen Reiterspan\, der mit seiner Musik eine einzigartige Verbindung von Elektronik und Klavier schafft\, begleitet. Ergänzt wird das Programm durch Texte von Pater Josef Kentenich\, die dem Thema eine tiefe spirituelle Dimension verleihen. \nMehr Informationen\n\nDie Veranstaltung beginnt um 18:00 Uhr im Pater-Kentenich-Haus\, Berg Schönstatt\, in Vallendar.\nDer Eintritt ist frei\, eine freiwillige Spende wird jedoch erbeten.\nFür weitere Informationen steht das Pater-Kentenich-Haus unter der Telefonnummer 0261-6404-411 sowie per E-Mail unter pater-kentenich-haus@s-ms.org zur Verfügung.\n\n			\n			\n				\n				\n				\n				\n				\n				\n				\n				\n				\n				\n			Soiré spirituelle (Flyer: pater-kentenich-haus)
URL:https://pfarrei-vallendar.de/event/soiree-spirituelle-ein-abend-der-hoffnung/
LOCATION:Pater-Kentenich-Haus\, Berg Schönstatt 7\, Vallendar\, 56179
ATTACH;FMTTYPE=image/jpeg:https://pfarrei-vallendar.de/wp-content/uploads/2025/05/20250584SoireePKH_Teaser.jpg
ORGANIZER;CN="Pater-Kentenich-Haus":MAILTO:pater-kentenich-haus@s-ms.org
END:VEVENT
END:VCALENDAR