BEGIN:VCALENDAR
VERSION:2.0
PRODID:-//Pfarrei Vallendar - ECPv6.15.20//NONSGML v1.0//EN
CALSCALE:GREGORIAN
METHOD:PUBLISH
X-ORIGINAL-URL:https://pfarrei-vallendar.de
X-WR-CALDESC:Veranstaltungen für Pfarrei Vallendar
REFRESH-INTERVAL;VALUE=DURATION:PT1H
X-Robots-Tag:noindex
X-PUBLISHED-TTL:PT1H
BEGIN:VTIMEZONE
TZID:Europe/Berlin
BEGIN:DAYLIGHT
TZOFFSETFROM:+0100
TZOFFSETTO:+0200
TZNAME:CEST
DTSTART:20240331T010000
END:DAYLIGHT
BEGIN:STANDARD
TZOFFSETFROM:+0200
TZOFFSETTO:+0100
TZNAME:CET
DTSTART:20241027T010000
END:STANDARD
BEGIN:DAYLIGHT
TZOFFSETFROM:+0100
TZOFFSETTO:+0200
TZNAME:CEST
DTSTART:20250330T010000
END:DAYLIGHT
BEGIN:STANDARD
TZOFFSETFROM:+0200
TZOFFSETTO:+0100
TZNAME:CET
DTSTART:20251026T010000
END:STANDARD
BEGIN:DAYLIGHT
TZOFFSETFROM:+0100
TZOFFSETTO:+0200
TZNAME:CEST
DTSTART:20260329T010000
END:DAYLIGHT
BEGIN:STANDARD
TZOFFSETFROM:+0200
TZOFFSETTO:+0100
TZNAME:CET
DTSTART:20261025T010000
END:STANDARD
END:VTIMEZONE
BEGIN:VEVENT
DTSTART;VALUE=DATE:20250608
DTEND;VALUE=DATE:20250625
DTSTAMP:20260425T160553
CREATED:20250519T155757Z
LAST-MODIFIED:20250625T212810Z
UID:13559-1749340800-1750809599@pfarrei-vallendar.de
SUMMARY:Fotoausstellung: Freiheit kann man lernen
DESCRIPTION:Fotoausstellung: Freiheit kann man lernen\nFrauen\, die mit ihren Kindern Schutz suchen\, stehen an einem Wendepunkt ihres Lebens. Sie haben entschieden\, dass das Leben\, das sie geführt haben\, weder für sie noch für ihre Kinder gut und sicher ist. Viele Frauen leben das erste Mal ohne Familie\, Ehemann oder Partner. Sie fragen sich: „Wie soll es weitergehen?“ „Kann ich wieder Freude am Leben haben?“ „Können meine Kinder und ich wieder Lachen und Spaß haben?“ Die Ausstellung „Freiheit kann man lernen“ beschäftigt sich mit den Erfahrungen von Frauen\, die den Schritt aus der Spirale der Gewalt geschafft haben und Freiheit erlernen und neu definieren konnten. \nEs sind beeindruckende\, ganz verschiedenartige Aufnahmen von Frauen mit unterschiedlichen Erfahrungen entstanden\, die sich nicht mehr verstecken wollen. \nDie Fotoausstellung ist auf Initiative der kfd Vallendar vom 8. bis 20. Juni 2025 in der Pfarrkirche Vallendar zu sehen. \nAusstellungseröffnung\nDie Ausstellungseröffnung mit der Referentin Claudia Berlingen aus dem Frauenhaus Trier findet\nam 11. Juni 2025 um 17:00 Uhr am Ausstellungsort statt.
URL:https://pfarrei-vallendar.de/event/fotoausstellung-freiheit-kann-man-lernen/
LOCATION:St. Marzellinus und Petrus\, Vallendar\, Kirchstr. 25\, Vallendar\, 56179
CATEGORIES:kfd,Veranstaltung
ATTACH;FMTTYPE=image/jpeg:https://pfarrei-vallendar.de/wp-content/uploads/2025/05/20250516_0608_Plakat-kfd-Fotoausstellung_Teaser1.jpg
END:VEVENT
BEGIN:VEVENT
DTSTART;TZID=Europe/Berlin:20250612T150000
DTEND;TZID=Europe/Berlin:20250612T173000
DTSTAMP:20260425T160553
CREATED:20250331T141610Z
LAST-MODIFIED:20250514T201636Z
UID:13213-1749740400-1749749400@pfarrei-vallendar.de
SUMMARY:Seniorentreff
DESCRIPTION:Seniorentreff\nGesellige Zusammenkünfte sind besonders für ältere Menschen von großer Bedeutung und bereichern den Alltag. Der Austausch mit anderen in einer einladenden Atmosphäre fördert das Wohlbefinden und bietet die Möglichkeit\, über vergangene Erlebnisse sowie aktuelle und zukünftige Herausforderungen ins Gespräch zu kommen. \nDaher lädt die Kolpingsfamilie Vallendar jeweils am zweiten Donnerstag im Monat um 15:00 Uhr in der Kreuzkirche zu einen Seniorentreff ein. Das nächste Treffen findet am Donnerstag\, 12.06.2025\, bei Kaffee und Kuchen statt. \nHerzliche Einladung an alle\, die sich gerne mit Gleichgesinnten austauschen möchten – auch Nicht-Mitglieder sind immer herzlich eingeladen.
URL:https://pfarrei-vallendar.de/event/seniorentreff-2025-06/
LOCATION:Kreuzkirche\, Gruppnraum\, Pfarrer-Sesterhenn-Straße 1\, Vallendar\, 56179
CATEGORIES:Kolping,Senioren,Veranstaltung
ATTACH;FMTTYPE=image/jpeg:https://pfarrei-vallendar.de/wp-content/uploads/2025/03/20250329_0410_Teaser_Seniorenkaffee.jpg
ORGANIZER;CN="Kolpingsfamilie Vallendar":MAILTO:pfaffenheuser@gmx.de
END:VEVENT
BEGIN:VEVENT
DTSTART;TZID=Europe/Berlin:20250612T190000
DTEND;TZID=Europe/Berlin:20250612T193000
DTSTAMP:20260425T160553
CREATED:20250111T182708Z
LAST-MODIFIED:20250514T200212Z
UID:11901-1749754800-1749756600@pfarrei-vallendar.de
SUMMARY:Friedensgebet
DESCRIPTION:Friedensgebet 2025\nDie Kriege im Nahen Osten und in Osteuropa sind weiterhin Teil unseres Alltages und auch andernorts gibt es bewaffnete Konflikte und Unfrieden. \nAngesichts dieser Weltlage wollen wir im Gebet um den Frieden nicht nachlassen! Als Pfarrgemeinde laden wir deshalb monatlich Mitbeterinnen und Mitbeter aus allen Teilgemeinden und Interessierte zum Friedensgebet herzlich ein. \nBitte beten Sie mit! \nDie nächsten Termine:\n\n12.06.\, 19 Uhr: Kreuzkirche\, Vallendar\n03.07.\, 19 Uhr: St. Peter und Paul\, Urbar\n07.08.\, 19 Uhr: Pfarrkirche\, Vallendar\n18.09.\, 19 Uhr: Kreuzkirche\, Vallendar\n12.10.\, 18 Uhr: St. Georg\, Niederwerth\n13.11.\, 19 Uhr: St. Peter und Paul\, Urbar
URL:https://pfarrei-vallendar.de/event/friedensgebet2025-6/
LOCATION:Kreuzkirche\, Pfarrer-Sesterhenn-Straße 1\, Vallendar\, 56179
CATEGORIES:Friedensgebet,Gottesdienst
ATTACH;FMTTYPE=image/jpeg:https://pfarrei-vallendar.de/wp-content/uploads/2023/01/20230105Friedensgebet_Teaser.jpg
ORGANIZER;CN="Pfarrei Vallendar St. Maria Magdalena":MAILTO:pfarrei.vallendar@bistum-trier.de.de
END:VEVENT
END:VCALENDAR