BEGIN:VCALENDAR
VERSION:2.0
PRODID:-//Pfarrei Vallendar - ECPv6.15.20//NONSGML v1.0//EN
CALSCALE:GREGORIAN
METHOD:PUBLISH
X-ORIGINAL-URL:https://pfarrei-vallendar.de
X-WR-CALDESC:Veranstaltungen für Pfarrei Vallendar
REFRESH-INTERVAL;VALUE=DURATION:PT1H
X-Robots-Tag:noindex
X-PUBLISHED-TTL:PT1H
BEGIN:VTIMEZONE
TZID:Europe/Berlin
BEGIN:DAYLIGHT
TZOFFSETFROM:+0100
TZOFFSETTO:+0200
TZNAME:CEST
DTSTART:20240331T010000
END:DAYLIGHT
BEGIN:STANDARD
TZOFFSETFROM:+0200
TZOFFSETTO:+0100
TZNAME:CET
DTSTART:20241027T010000
END:STANDARD
BEGIN:DAYLIGHT
TZOFFSETFROM:+0100
TZOFFSETTO:+0200
TZNAME:CEST
DTSTART:20250330T010000
END:DAYLIGHT
BEGIN:STANDARD
TZOFFSETFROM:+0200
TZOFFSETTO:+0100
TZNAME:CET
DTSTART:20251026T010000
END:STANDARD
BEGIN:DAYLIGHT
TZOFFSETFROM:+0100
TZOFFSETTO:+0200
TZNAME:CEST
DTSTART:20260329T010000
END:DAYLIGHT
BEGIN:STANDARD
TZOFFSETFROM:+0200
TZOFFSETTO:+0100
TZNAME:CET
DTSTART:20261025T010000
END:STANDARD
END:VTIMEZONE
BEGIN:VEVENT
DTSTART;TZID=Europe/Berlin:20250703T153000
DTEND;TZID=Europe/Berlin:20250703T173000
DTSTAMP:20260421T054819
CREATED:20250417T215230Z
LAST-MODIFIED:20250514T201853Z
UID:13351-1751556600-1751563800@pfarrei-vallendar.de
SUMMARY:Offener Familientreff - Wasserforschen mit Picknick
DESCRIPTION:Teilnahme ist ohne Anmeldung möglich.
URL:https://pfarrei-vallendar.de/event/offener-familientreff-wanderung-tierspurensuche-2/
LOCATION:Spielplatz am Minigolfplatz Untere Meerbach\, Untere Meerbach 1\, Vallendar\, 56179
CATEGORIES:Familien,Veranstaltung
ATTACH;FMTTYPE=image/jpeg:https://pfarrei-vallendar.de/wp-content/uploads/2025/04/20250417OffenerFamilientreff.jpg
END:VEVENT
BEGIN:VEVENT
DTSTART;TZID=Europe/Berlin:20250703T190000
DTEND;TZID=Europe/Berlin:20250703T193000
DTSTAMP:20260421T054819
CREATED:20250111T182708Z
LAST-MODIFIED:20250514T200205Z
UID:11908-1751569200-1751571000@pfarrei-vallendar.de
SUMMARY:Friedensgebet
DESCRIPTION:Friedensgebet 2025\nDie Kriege im Nahen Osten und in Osteuropa sind weiterhin Teil unseres Alltages und auch andernorts gibt es bewaffnete Konflikte und Unfrieden. \nAngesichts dieser Weltlage wollen wir im Gebet um den Frieden nicht nachlassen! Als Pfarrgemeinde laden wir deshalb monatlich Mitbeterinnen und Mitbeter aus allen Teilgemeinden und Interessierte zum Friedensgebet herzlich ein. \nBitte beten Sie mit! \nDie nächsten Termine:\n\n03.07.\, 19 Uhr: St. Peter und Paul\, Urbar\n07.08.\, 19 Uhr: Pfarrkirche\, Vallendar\n18.09.\, 19 Uhr: Kreuzkirche\, Vallendar\n12.10.\, 18 Uhr: St. Georg\, Niederwerth\n13.11.\, 19 Uhr: St. Peter und Paul\, Urbar
URL:https://pfarrei-vallendar.de/event/friedensgebet2025-7/
LOCATION:St. Peter und Paul\, Urbar\, In den Büngerten 8\, Urbar\, 56182
CATEGORIES:Friedensgebet,Gottesdienst
ATTACH;FMTTYPE=image/jpeg:https://pfarrei-vallendar.de/wp-content/uploads/2023/01/20230105Friedensgebet_Teaser.jpg
ORGANIZER;CN="Pfarrei Vallendar St. Maria Magdalena":MAILTO:pfarrei.vallendar@bistum-trier.de.de
END:VEVENT
END:VCALENDAR