BEGIN:VCALENDAR
VERSION:2.0
PRODID:-//Pfarrei Vallendar - ECPv6.15.20//NONSGML v1.0//EN
CALSCALE:GREGORIAN
METHOD:PUBLISH
X-WR-CALNAME:Pfarrei Vallendar
X-ORIGINAL-URL:https://pfarrei-vallendar.de
X-WR-CALDESC:Veranstaltungen für Pfarrei Vallendar
REFRESH-INTERVAL;VALUE=DURATION:PT1H
X-Robots-Tag:noindex
X-PUBLISHED-TTL:PT1H
BEGIN:VTIMEZONE
TZID:Europe/Berlin
BEGIN:DAYLIGHT
TZOFFSETFROM:+0100
TZOFFSETTO:+0200
TZNAME:CEST
DTSTART:20250330T010000
END:DAYLIGHT
BEGIN:STANDARD
TZOFFSETFROM:+0200
TZOFFSETTO:+0100
TZNAME:CET
DTSTART:20251026T010000
END:STANDARD
BEGIN:DAYLIGHT
TZOFFSETFROM:+0100
TZOFFSETTO:+0200
TZNAME:CEST
DTSTART:20260329T010000
END:DAYLIGHT
BEGIN:STANDARD
TZOFFSETFROM:+0200
TZOFFSETTO:+0100
TZNAME:CET
DTSTART:20261025T010000
END:STANDARD
BEGIN:DAYLIGHT
TZOFFSETFROM:+0100
TZOFFSETTO:+0200
TZNAME:CEST
DTSTART:20270328T010000
END:DAYLIGHT
BEGIN:STANDARD
TZOFFSETFROM:+0200
TZOFFSETTO:+0100
TZNAME:CET
DTSTART:20271031T010000
END:STANDARD
END:VTIMEZONE
BEGIN:VEVENT
DTSTART;TZID=Europe/Berlin:20260424T163000
DTEND;TZID=Europe/Berlin:20260424T173000
DTSTAMP:20260425T155309
CREATED:20260406T192520Z
LAST-MODIFIED:20260411T193531Z
UID:16802-1777048200-1777051800@pfarrei-vallendar.de
SUMMARY:Komm in die Kinderkirche "Hören\, was er nicht sagt"
DESCRIPTION:Komm in die Kinderkirche\nFreitag\, 24. April 2026\nGeschichten aus der Bibel hören\, singen\, beten\, basteln\, spielen und vieles mehr. \nThema: \n„Hören\, was er nicht sagt“\nFamilien mit Kindern von 3-7 Jahren sind von 16.30 bis ca. 17.30 Uhr in den Nebenraum der Kreuzkirche\, Mallendarer Berg eingeladen. \nKontakt: pfarrei.vallendar@bistum-trier.de\, Andrea Ohlig und Susanne Böhm.
URL:https://pfarrei-vallendar.de/event/komm-in-die-kinderkirche-hoeren-was-er-nicht-sagt/
LOCATION:Kreuzkirche\, Gruppnraum\, Pfarrer-Sesterhenn-Straße 1\, Vallendar\, 56179
CATEGORIES:Titelslider
ATTACH;FMTTYPE=image/jpeg:https://pfarrei-vallendar.de/wp-content/uploads/2023/10/20231001KommInDieKinderkirche_Teaser.jpg
ORGANIZER;CN="Pfarrei Vallendar St. Maria Magdalena":MAILTO:pfarrei.vallendar@bistum-trier.de.de
END:VEVENT
END:VCALENDAR