BEGIN:VCALENDAR
VERSION:2.0
PRODID:-//Pfarrei Vallendar - ECPv6.15.20//NONSGML v1.0//EN
CALSCALE:GREGORIAN
METHOD:PUBLISH
X-ORIGINAL-URL:https://pfarrei-vallendar.de
X-WR-CALDESC:Veranstaltungen für Pfarrei Vallendar
REFRESH-INTERVAL;VALUE=DURATION:PT1H
X-Robots-Tag:noindex
X-PUBLISHED-TTL:PT1H
BEGIN:VTIMEZONE
TZID:Europe/Berlin
BEGIN:DAYLIGHT
TZOFFSETFROM:+0100
TZOFFSETTO:+0200
TZNAME:CEST
DTSTART:20240331T010000
END:DAYLIGHT
BEGIN:STANDARD
TZOFFSETFROM:+0200
TZOFFSETTO:+0100
TZNAME:CET
DTSTART:20241027T010000
END:STANDARD
BEGIN:DAYLIGHT
TZOFFSETFROM:+0100
TZOFFSETTO:+0200
TZNAME:CEST
DTSTART:20250330T010000
END:DAYLIGHT
BEGIN:STANDARD
TZOFFSETFROM:+0200
TZOFFSETTO:+0100
TZNAME:CET
DTSTART:20251026T010000
END:STANDARD
BEGIN:DAYLIGHT
TZOFFSETFROM:+0100
TZOFFSETTO:+0200
TZNAME:CEST
DTSTART:20260329T010000
END:DAYLIGHT
BEGIN:STANDARD
TZOFFSETFROM:+0200
TZOFFSETTO:+0100
TZNAME:CET
DTSTART:20261025T010000
END:STANDARD
END:VTIMEZONE
BEGIN:VEVENT
DTSTART;TZID=Europe/Berlin:20250504T180000
DTEND;TZID=Europe/Berlin:20250504T190000
DTSTAMP:20260425T160553
CREATED:20250425T145035Z
LAST-MODIFIED:20250514T202133Z
UID:13370-1746381600-1746385200@pfarrei-vallendar.de
SUMMARY:13. Vallendarer Evensong
DESCRIPTION:13. Vallendarer Evensong\nVier Chöre aus Vallendar gestalten eine musikalische Andacht in der Pfarrkirche Vallendar\nAm Sonntag\, 04. Mai 2025\, laden die evangelische und katholische Kirchengemeinde Vallendar um 18:00 Uhr zum mittlerweile 13. Ökumenischen Evensong unter der Überschrift „Und führe zusammen\, was getrennt ist“ in die Vallendarer Pfarrkirche St. Marzellinus und Petrus ein. Mitwirken wird dabei Projektchor von Haus Wasserburg unter der Leitung von Jörg A. Gattwinkel SAC\, der auch das Zentraldirigat aller beteiligten Chöre übernehmen wird\, sowie der „Kinder- und Jugendchor Marzellinusspatzen“ Vallendar\, der Kammerchor „Cantate“ aus Vallendar sowie der „Katholische Kirchenchor Cäcilia 1668 Vallendar“ jeweils unter der Leitung von Johann Schmelzer\, der auch den Orgelpart der Andacht bestreiten wird und die musikalische Gesamtleitung innehat. Erstmals wird mit Andreas Stickel\, Trompete der Rheinischen Philharmonie\, auch ein Soloinstrument zu hören sein. Die liturgische Leitung liegt bei Pfarrer Martin Laskewicz. \nDie vier Chöre werden erneut zeigen\, dass gerade die Musik es versteht\, zu verbinden und zusammenzuführen\, wenn Menschen – Kinder und Erwachsene\, Frauen und Männer – in gemeinsamem Musizieren Gott loben\, preisen und feiern. \nZu Gehör gebracht werden als Psalmvertonungen „Laudate Dominum“ von Robert Jones\, „Lass mich nur singen“ nach Psalm 146 in einer Übertragung Huub Oosterhuis´ von Jörg A. Gattwinkel und „Meine Seel ist stille zu Gott“ (Op. 53\,1) von Moritz Hauptmann. Gemeinsam mit allen Chören wird neben dem Hymnus „Wäre Gesanges voll unser Mund“ in einem Chorsatz von Lukas Stollhof und dem Choral „Du lässt den Tag\, o Gott\, nun enden“ in einem Satz von C. Scholefield der „Magnificat Kanon von Taizé“ zur Aufführung gebracht\, der abwechselnd mit Strophen aus „Marias Lied“ erklingen wird. Zudem werden als Anthem „Look at the world“ von John Rutter und als „Nunc dimittis“ der Kehrvers von Taizé in Verbindung mit einer Rezitation des „Lobgesang des Simeon“ (Rezitation: Sylvia Cordie) dargeboten. \nAllen diesen musikalischen Formen ist jedoch gemeinsam\, dass sie nicht in erster Linie zur Erbauung der Gemeinde oder aus Spaß am gemeinschaftlichen Musizieren gesungen werden\, sondern zur höheren Ehre Gottes. \nKunstvolles Trompeten- und Orgelspiel\nDiesem Ziel ist auch das kunstvolle Trompeten- und Orgelspiel von Andreas Stickel und Johann Schmelzer verpflichtet\, die das Programm der Andacht mit „dem ersten und dritten Satz aus dem „Concerto in D-Dur“ von Johann Sebastian Bach (BWV 972) in einer Bearbeitung von Klemens Schnorr kunstvoll abrunden werden. \nAndreas Stickel\, geboren in Karl-Marx-Stadt\, begann mit dem Trompetenspiel im Posaunenchor seiner heimatlichen Kirchgemeinde. Den ersten Trompetenunterricht erhielt er mit 17 Jahren bei Klaus Fricke (Robert-Schumann Philharmonie Chemnitz) Nachdem Abitur studierte er an der Musikhochschule Detmold in der Klasse von Prof. Max Sommerhalder. Seine Ausbildung ergänzte er in Meisterkursen bei Prof. Antoine Curé\, James Thompson\, Stanley Friedman und Falk Maertens. Im Juni 2009 legte er seine Diplomprüfung mit Auszeichnung ab. Nachdem er für zwei Jahre als Trompeter bei den Bielefelder Philharmonikern engagiert war\, setzte er seine Studien als Akademist an der Berliner Staatsoper unter den Linden fort\, Daraufhin führte ihn ein Engagement als stellvertretender Solotrompeter an das Theater Dortmund bevor er im August 2008 Solotrompeter im Staatsorchester Rheinische Philharmonie Koblenz wurde. \n„Evensong“\nDer „Evensong“ ist eine ökumenische Form\, die aus der anglikanischen Tradition stammt und letztlich eine Abwandlung der katholischen Vesper ist; einen besonderen Schwerpunkt bildet dabei die kirchenmusikalische Gestaltung mit Chorgesang und Orgelspiel.
URL:https://pfarrei-vallendar.de/event/13-vallendarer-evensong/
LOCATION:St. Marzellinus und Petrus\, Vallendar\, Kirchstr. 25\, Vallendar\, 56179
CATEGORIES:Gottesdienst,Musikgottesdienst
ATTACH;FMTTYPE=image/jpeg:https://pfarrei-vallendar.de/wp-content/uploads/2025/04/20250418_0504_Teaser_Evensong.jpg
ORGANIZER;CN="Pfarrei Vallendar St. Maria Magdalena":MAILTO:pfarrei.vallendar@bistum-trier.de.de
END:VEVENT
BEGIN:VEVENT
DTSTART;TZID=Europe/Berlin:20250507T153000
DTEND;TZID=Europe/Berlin:20250507T173000
DTSTAMP:20260425T160553
CREATED:20250417T214653Z
LAST-MODIFIED:20250514T202118Z
UID:13348-1746631800-1746639000@pfarrei-vallendar.de
SUMMARY:Offener Familientreff - Wanderung "Tierspurensuche"
DESCRIPTION:Teilnahme ist ohne Anmeldung möglich.
URL:https://pfarrei-vallendar.de/event/offener-familientreff-wanderung-tierspurensuche/
LOCATION:ParkplatzSchönstatt\, Unterer Parkplatz Pallottiner\, Vallendar\, 56179
CATEGORIES:Familien,Veranstaltung
ATTACH;FMTTYPE=image/jpeg:https://pfarrei-vallendar.de/wp-content/uploads/2025/04/20250417OffenerFamilientreff.jpg
ORGANIZER;CN="Katholische Familienbildungsst%C3%A4tte Koblenz":MAILTO:info@fbs-koblenz.de
END:VEVENT
BEGIN:VEVENT
DTSTART;TZID=Europe/Berlin:20250508T150000
DTEND;TZID=Europe/Berlin:20250508T173000
DTSTAMP:20260425T160553
CREATED:20250331T141424Z
LAST-MODIFIED:20250514T201630Z
UID:13211-1746716400-1746725400@pfarrei-vallendar.de
SUMMARY:Seniorentreff
DESCRIPTION:Seniorentreff\nDie Kolpingsfamilie Vallendar lädt jeweils am zweiten Donnerstag im Monat um 15:00 Uhr in der Kreuzkirche zu einen Seniorentreff ein. Das nächste Treffen findet am Donnerstag\, 08. Mai 2025\, bei Kaffee und Kuchen statt. Herzliche Einladung an alle\, die sich gerne mit Gleichgesinnten austauschen möchten – auch Nicht-Mitglieder sind immer herzlich eingeladen.
URL:https://pfarrei-vallendar.de/event/seniorentreff-2025-04/
LOCATION:Kreuzkirche\, Gruppnraum\, Pfarrer-Sesterhenn-Straße 1\, Vallendar\, 56179
CATEGORIES:Kolping,Senioren,Veranstaltung
ATTACH;FMTTYPE=image/jpeg:https://pfarrei-vallendar.de/wp-content/uploads/2025/03/20250329_0410_Teaser_Seniorenkaffee.jpg
ORGANIZER;CN="Kolpingsfamilie Vallendar":MAILTO:pfaffenheuser@gmx.de
END:VEVENT
BEGIN:VEVENT
DTSTART;TZID=Europe/Berlin:20250508T193000
DTEND;TZID=Europe/Berlin:20250508T210000
DTSTAMP:20260425T160553
CREATED:20250331T141424Z
LAST-MODIFIED:20250514T202109Z
UID:13408-1746732600-1746738000@pfarrei-vallendar.de
SUMMARY:Organspende – warum es Sinn gibt
DESCRIPTION:„Organspende – warum es Sinn gibt“\nÖkumenischer Informations- und Gesprächsabend am 08. Mai 2025\nEs gibt viele Vorurteile über die Organspende und ebenso viele Fakten\, die oft unbekannt sind. Zu einem Ökumenischen Gespräch über dieses Thema laden die Evangelische Kirchengemeinde Vallendar und die Kolpingsfamilie Vallendar am Donnerstag\, 08. Mai 2025\, um 19:30 Uhr ins Katholische Pfarrheim im Generationenzentrum St. Josef (Beuelsweg 10) herzlich ein. \nAn diesem Abend sollen die Teilnehmenden ins Gespräch über die Organspende\, ihre Voraussetzungen und Möglichkeiten kommen. \nDazu werden Sylvia Witzenhausen\, Pflegerische Transplantationsbeauftragte des GKM Mittelrhein am Standort Evangelisches Stift und Pfarrer Gerd Götz\, Gemeindepfarrer der evangelischen Kirchengemeinde Vallendar\, Impulse einbringen. Aufgrund ihrer breiten Erfahrungen über Jahrzehnte als Intensivschwester hat sie sich Sylvia Witzenhausen mit diesem Thema in besonderer Weise auseinandergesetzt. \nDie Veranstaltung soll informieren und einen offenen Austausch darüber bieten\, ob und wie Menschen auch über ihren Tod hinaus noch hilfreich für andere Menschen sein können.
URL:https://pfarrei-vallendar.de/event/seniorentreff-2025-04-2/
LOCATION:Gemeindesaal im Generationenzentrum St. Josef\, Beuelsweg 8\, Vallendar\, 56179
CATEGORIES:Kolping,Veranstaltung
ATTACH;FMTTYPE=image/jpeg:https://pfarrei-vallendar.de/wp-content/uploads/2025/03/20250420_0508_Organspende-Abend_Teaser.jpg
END:VEVENT
BEGIN:VEVENT
DTSTART;TZID=Europe/Berlin:20250511T093000
DTEND;TZID=Europe/Berlin:20250511T120000
DTSTAMP:20260425T160553
CREATED:20250413T123427Z
LAST-MODIFIED:20250514T202048Z
UID:13273-1746955800-1746964800@pfarrei-vallendar.de
SUMMARY:"Damit Ihr Hoffnung habt" - Kirmesprozession in Niederwerth
DESCRIPTION:„Damit Ihr Hoffnung habt“\nKirmesprozession in Niederwerth\nDie Kirmesprozession auf der Insel Niederwerth steht in diesem Jahr unter dem Thema: „Damit Ihr Hoffnung habt“. In schweren Zeiten ist es wichtig\, gemeinsam unterwegs zu sein. Es ist notwendig\, miteinander wieder Hoffnung zu schöpfen. \n\nAm 11. Mai wird der Tag mit einem Festgottesdienst um 9.30 Uhr in der St. Georgskirche beginnen.\nAnschließend zieht die Prozession mit Jesus Christus in der Monstranz durch den Ort.\nDazu treffen sich alle Teilnehmer der Prozession\, sowie Vereine auf dem Kirmesplatz Rheinstraße/Ecke Klosterstraße am 1. Altar.\nDas Allerheiligste in Begleitung der Schützen und der Kommunionkinder wird unter musikalischer Begleitung des Niederwerther Musikvereins zu diesem Altar kommen.\nNach Erteilung des 1. Segens geht dann der Weg Rheinstraße\, Schloßstraße zur Hochstraße bis zum 2. Altar.\, weiter durch die Gartenstraße bis zur Ecke Am Stiel zum 3. Altar.\nVon dort führt der Weg weiter bis Am Stiel/Ecke Schützenstraße bis zum 4. und letzten Altar. Nach dem Segen geht es dann durch die Schützenstraße in die Straße Auf der Atzel\, in die Hochstraße bis zur Kirche. Die Gemeinde geht dann in die Kirche\, um dort den feierlichen Einzug der Sakramentengruppe\, begleitet von den Vereinen\, zu erwarten.\n\nEs wäre schön\, wenn viele Menschen\, gerade in der heutigen\, mit vielen Problemen belasteten Zeit\, daran teilnehmen würden. \nAn diesem Sonntag findet während der Messe die Sonderkollekte für die Kirche St. Georg statt. \nHerzliche Einladung!
URL:https://pfarrei-vallendar.de/event/damit-ihr-hoffnung-habt-kirmesprozession-in-niederwerth/
LOCATION:St. Georg Niederwerth\, Im Kloster 2\, Niederwerth\, 56179
CATEGORIES:Gottesdienst
ATTACH;FMTTYPE=image/jpeg:https://pfarrei-vallendar.de/wp-content/uploads/2025/04/20250406_Niederwerth-StGeorg0326_FotoDorschner_084547.jpg
ORGANIZER;CN="Pfarrei Vallendar St. Maria Magdalena":MAILTO:pfarrei.vallendar@bistum-trier.de.de
END:VEVENT
BEGIN:VEVENT
DTSTART;TZID=Europe/Berlin:20250514T150000
DTEND;TZID=Europe/Berlin:20250514T173000
DTSTAMP:20260425T160553
CREATED:20250207T171447Z
LAST-MODIFIED:20250514T201011Z
UID:12217-1747234800-1747243800@pfarrei-vallendar.de
SUMMARY:Café Lebensbaum – Offenes Treffen für Trauernde
DESCRIPTION:In Gesprächen mit anderen Betroffenen und einem begleitenden Team besteht die Möglichkeit\, Leid und Freude miteinander zu teilen. Gemeinsam suchen wir nach Wegen in ein neues Morgen\, nach Wegen\, wie die Beziehung zu dem Verstorbenen über den Tod hinaus gelebt und die Erinnerung an ihn wachgehalten werden kann. \nEingeladen sind alle Trauernden\, unabhängig von Herkunft und Religion. Es ist Zeit für Austausch\, Begegnung und einen Impuls. \nWie in jedem Café gibt es die Möglichkeit zu Kaffee und Kuchen. \nEine Anmeldung ist nicht nötig. Die Teilnahme ist auch in unregelmäßigen Abständen möglich. \nÜber eine kleine Spende zur Deckung der Kosten würden wir uns freuen. \n			\n				Flyer (PDF) herunterladen\n			\n			\n				\n				\n				\n				\n				\n				\n				\n				\n				\n				Termine\n2025\nJeden zweiten Mittwoch im Monat um 15:00 Uhr: \n\n14. Mai\n11. Juni\,\n09. Juli\n13. August\n10. September\n08. Oktober\n12. November\n10. Dezember\n\n			\n			\n				\n				\n				\n				\n				\n				\n				\n				\n				\n				Café Lebensbaum\nDer Name „Café Lebensbaum“ für die offenen Treffen für Trauernde wurde unter anderem inspiriert durch den Gingko-Baum. \nSeinen Blättern werden nicht nur besondere Heilkräfte zugeschrieben\, der Gingko besitzt auch eine außerordentliche Anpassungsfähigkeit und Widerstandskraft. \nOffene Treffen für Trauernde\nEs war ein Ginkgo-Baum\, der schon bald nach der verheerenden Atomkatastrophe in Hiroshima 1945 wieder austrieb und frisches Grün hervorbrachte — Hoffnungszeichen für neues Leben. \nAnsprechpersonen: \nHeidi Schaum\, 01711711401\, heidimariaschaum@gmail.com \nSchwester Barbara-Maria Kullmann\, 015225963485\, sr.barbara-maria@schoenstatt-info.de
URL:https://pfarrei-vallendar.de/event/cafe-lebensbaum-offenes-treffen-fuer-trauernde-202505/
LOCATION:Pilgerhaus Schönstatt\, Hillscheider Str. 5\, Vallendar\, 56179
CATEGORIES:Trauer,Veranstaltung
ATTACH;FMTTYPE=image/jpeg:https://pfarrei-vallendar.de/wp-content/uploads/2023/10/20240103_20231022CafeLebensbaum_TeaserVeranstaltungen.jpg
ORGANIZER;CN="Pfarrei Vallendar St. Maria Magdalena":MAILTO:pfarrei.vallendar@bistum-trier.de.de
END:VEVENT
BEGIN:VEVENT
DTSTART;TZID=Europe/Berlin:20250516T163000
DTEND;TZID=Europe/Berlin:20250516T173000
DTSTAMP:20260425T160553
CREATED:20250429T112316Z
LAST-MODIFIED:20250514T202039Z
UID:13379-1747413000-1747416600@pfarrei-vallendar.de
SUMMARY:Komm in die Kinderkirche
DESCRIPTION:Komm in die Kinderkirche\nFreitag\, 16. Mai 2025\n  \nGeschichten aus der Bibel hören\, singen\, beten\, basteln\, spielen und vieles mehr. \nThema: \n„Maria\, Mutter mit Herz“\nFamilien mit Kindern von 3-7 Jahren sind von 16.30 bis ca. 17.30 Uhr in den Nebenraum der Kreuzkirche\, Mallendarer Berg eingeladen. \nKontakt: pfarrei.vallendar@bistum-trier.de\, Andrea Ohlig und Susanne Böhm.
URL:https://pfarrei-vallendar.de/event/komm-in-die-kinderkirche-2025-04-2/
LOCATION:Kreuzkirche\, Gruppnraum\, Pfarrer-Sesterhenn-Straße 1\, Vallendar\, 56179
CATEGORIES:Gottesdienst,Kinderkirche
ATTACH;FMTTYPE=image/jpeg:https://pfarrei-vallendar.de/wp-content/uploads/2023/10/20231001KommInDieKinderkirche_Teaser.jpg
ORGANIZER;CN="Pfarrei Vallendar St. Maria Magdalena":MAILTO:pfarrei.vallendar@bistum-trier.de.de
END:VEVENT
BEGIN:VEVENT
DTSTART;TZID=Europe/Berlin:20250518T180000
DTEND;TZID=Europe/Berlin:20250518T183000
DTSTAMP:20260425T160554
CREATED:20250111T182708Z
LAST-MODIFIED:20250514T200235Z
UID:11893-1747591200-1747593000@pfarrei-vallendar.de
SUMMARY:Maiandacht als Friedensgebet
DESCRIPTION:Maiandacht als Friedensgebet\nImmer noch gibt es in den unterschiedlichsten Teilen unserer Erde Unfriede\, Hass \, Gewalt und kriegerische Auseinandersetzungen. Das beunruhigt uns und macht uns hilflos weil wir gefühlt nichts tun können. Aber wir alle können uns einbringen durch unser gemeinsames Beten. \nDeshalb herzliche Einladung an alle zur \nMaiandacht -gestaltet als Friedengebet am 18.Mai 2025  \num           18.00 Uhr in der St. Georgskirche in Niederwerth \nBitte beten Sie mit! \nDie nächsten Termine:\n\n18.05.\, 18 Uhr: St. Georg\, Niederwerth\n12.06.\, 19 Uhr: Kreuzkirche\, Vallendar\n03.07.\, 19 Uhr: St. Peter und Paul\, Urbar\n07.08.\, 19 Uhr: Pfarrkirche\, Vallendar\n18.09.\, 19 Uhr: Kreuzkirche\, Vallendar\n12.10.\, 18 Uhr: St. Georg\, Niederwerth\n13.11.\, 19 Uhr: St. Peter und Paul\, Urbar
URL:https://pfarrei-vallendar.de/event/friedensgebet2025-5/
LOCATION:St. Georg Niederwerth\, Im Kloster 2\, Niederwerth\, 56179
CATEGORIES:Friedensgebet,Gottesdienst
ATTACH;FMTTYPE=image/jpeg:https://pfarrei-vallendar.de/wp-content/uploads/2023/01/20230105Friedensgebet_Teaser.jpg
ORGANIZER;CN="Pfarrei Vallendar St. Maria Magdalena":MAILTO:pfarrei.vallendar@bistum-trier.de.de
END:VEVENT
BEGIN:VEVENT
DTSTART;TZID=Europe/Berlin:20250518T180000
DTEND;TZID=Europe/Berlin:20250518T190000
DTSTAMP:20260425T160554
CREATED:20250429T113844Z
LAST-MODIFIED:20250514T202030Z
UID:13394-1747591200-1747594800@pfarrei-vallendar.de
SUMMARY:Musikalisches Abendlob
DESCRIPTION:„Cantate“ gestaltet Musikalisches Abendlob\nChor- und Orgelmusik in der Pfarrkirche Vallendar am Sonntag\, 18. Mai 2025\nDie große Halle der Pfarrkirche St. Marzellinus und Petrus Vallendar mit eindrucksvollem und zu Herz und Seele gehendem Klang zu erfüllen\, ist das Ziel eines Musikalischen Abendlobes\, das am Sonntag\, 18. Mai 2025 um 18:00 Uhr stattfindet. Die Ausführenden des Konzertes sind der Chor „Cantate“ aus Vallendar sowie Chorleiter und Organist Johann Schmelzer. Das Geistliche Wort spricht Pfarrer Martin Laskewicz. Das abwechslungsreiche und anspruchsvolle Programm schlägt einen weiten Bogen von der Renaissance über die Romantik bis zur Moderne und bietet die ganze Bandbreite von verhalten-eindrücklichen Tönen bis zum festlich-kräftigen Jubelton. Der Eintritt ist frei\, Spenden bei der Türkollekte werden erbeten.
URL:https://pfarrei-vallendar.de/event/musikalisches-abendlob/
LOCATION:St. Marzellinus und Petrus\, Vallendar\, Kirchstr. 25\, Vallendar\, 56179
CATEGORIES:Gottesdienst,Musikgottesdienst
ATTACH;FMTTYPE=image/jpeg:https://pfarrei-vallendar.de/wp-content/uploads/2025/04/20250420_0518_Foto_ChorCantate.jpg
END:VEVENT
BEGIN:VEVENT
DTSTART;TZID=Europe/Berlin:20250520T153000
DTEND;TZID=Europe/Berlin:20250520T170000
DTSTAMP:20260425T160554
CREATED:20250417T215528Z
LAST-MODIFIED:20250514T201921Z
UID:13354-1747755000-1747760400@pfarrei-vallendar.de
SUMMARY:Familiencafé - Herausforderungen im Alltag
DESCRIPTION:
URL:https://pfarrei-vallendar.de/event/familiencafe-herausforderungen-im-alltag/
LOCATION:Gemeindesaal im Generationenzentrum St. Josef\, Beuelsweg 8\, Vallendar\, 56179
CATEGORIES:Familien,Veranstaltung
ATTACH;FMTTYPE=image/jpeg:https://pfarrei-vallendar.de/wp-content/uploads/2024/01/20240117FamilienCafe_Teaser.jpg
ORGANIZER;CN="Pfarrei Vallendar St. Maria Magdalena":MAILTO:pfarrei.vallendar@bistum-trier.de.de
END:VEVENT
BEGIN:VEVENT
DTSTART;TZID=Europe/Berlin:20250529T100000
DTEND;TZID=Europe/Berlin:20250529T160000
DTSTAMP:20260425T160554
CREATED:20250521T175729Z
LAST-MODIFIED:20250521T180018Z
UID:13573-1748512800-1748534400@pfarrei-vallendar.de
SUMMARY:Himmelfahrt an der Kreuzkirche ökumenisch
DESCRIPTION:Himmelfahrt an der Kreuzkirche ökumenisch\nSchon fast immer haben wir an Christi Himmelfahrt einen Gottesdienst im Grünen gefeiert. Am Schauinsland\, später dann an der Wambachhütte. Immer gerne mit dem Gesangverein Germania zusammen. Eine lange Tradition\, die weitergeführt werden soll. Auch mit aktuellen Veränderungen. \nLeider kann die Germania das große Fest an Himmelfahrt nicht mehr ausrichten. Wir wollen aber trotzdem Gottesdienst feiern und danach ein geselliges Beisammensein ermöglichen. \nDazu treffen wir uns in diesem Jahr an der Kreuzkirche. Nach dem Gottesdienst um 10.00 Uhr stellen wir\, wie 2022 schon einmal\, Grills zur Verfügung\, um danach noch bei einem Picknick dabei zusein. Essen\, Grillgut und Getränke bringen alle selber mit und so wird sich bei hoffentlich schönstem Wetter die Wiese an der Kreuzkirche mit schlemmenden\, spielenden und fröhlichen Menschen füllen. \nGerd Götz
URL:https://pfarrei-vallendar.de/event/himmelfahrt-an-der-kreuzkirche-oekumenisch/
LOCATION:Kreuzkirche\, Pfarrer-Sesterhenn-Straße 1\, Vallendar\, 56179
CATEGORIES:Gottesdienst,Veranstaltung
ATTACH;FMTTYPE=image/jpeg:https://pfarrei-vallendar.de/wp-content/uploads/2025/05/20250520_20220403_T00576_Kreuzkirche_FotoBrehm.jpg
END:VEVENT
END:VCALENDAR